BEGIN:VCALENDAR
VERSION:2.0
PRODID:-//Mara Amore - ECPv6.15.20//NONSGML v1.0//EN
CALSCALE:GREGORIAN
METHOD:PUBLISH
X-ORIGINAL-URL:https://mara-amore.ie
X-WR-CALDESC:Events for Mara Amore
REFRESH-INTERVAL;VALUE=DURATION:PT1H
X-Robots-Tag:noindex
X-PUBLISHED-TTL:PT1H
BEGIN:VTIMEZONE
TZID:Europe/London
BEGIN:DAYLIGHT
TZOFFSETFROM:+0000
TZOFFSETTO:+0100
TZNAME:BST
DTSTART:20250330T010000
END:DAYLIGHT
BEGIN:STANDARD
TZOFFSETFROM:+0100
TZOFFSETTO:+0000
TZNAME:GMT
DTSTART:20251026T010000
END:STANDARD
BEGIN:DAYLIGHT
TZOFFSETFROM:+0000
TZOFFSETTO:+0100
TZNAME:BST
DTSTART:20260329T010000
END:DAYLIGHT
BEGIN:STANDARD
TZOFFSETFROM:+0100
TZOFFSETTO:+0000
TZNAME:GMT
DTSTART:20261025T010000
END:STANDARD
BEGIN:DAYLIGHT
TZOFFSETFROM:+0000
TZOFFSETTO:+0100
TZNAME:BST
DTSTART:20270328T010000
END:DAYLIGHT
BEGIN:STANDARD
TZOFFSETFROM:+0100
TZOFFSETTO:+0000
TZNAME:GMT
DTSTART:20271031T010000
END:STANDARD
END:VTIMEZONE
BEGIN:VEVENT
DTSTART;TZID=Europe/London:20260304T143000
DTEND;TZID=Europe/London:20260325T163000
DTSTAMP:20260422T232325
CREATED:20260129T110758Z
LAST-MODIFIED:20260204T122329Z
UID:365341-1772634600-1774456200@mara-amore.ie
SUMMARY:March Crafternoon Course: 4th\, 11th\, 18th\, 25th March 2.30-4.30pm
DESCRIPTION:Crafternoon Glass Course\nCrafternoon: A 4 week glass course for those who have already had an introduction to glass fusing and who wish to develop their skills on a larger piece. Create a piece of glass art up to 29cm tall by 21cm wide and work on it over the 4 weeks. Two firings and all materials included. \nEvery Wednesday in March\, 2.30pm – 4.30pm.
URL:https://mara-amore.ie/event/march-crafternoon-course-4th-11th-18th-25th-march-2-30-4-30pm/
LOCATION:Mara Amore\, 66 High Street\, Tenterden\, Kent\, TN30 6AU\, United Kingdom
CATEGORIES:Workshop
ATTACH;FMTTYPE=image/jpeg:https://mara-amore.ie/wp-content/uploads/2026/01/PXL_20260131_104128514.PORTRAIT-optimized.jpg
ORGANIZER;CN="Mara Amore":MAILTO:h@mara-amore.ie
END:VEVENT
END:VCALENDAR