BEGIN:VCALENDAR
VERSION:2.0
PRODID:-//Mara Amore - ECPv6.15.20//NONSGML v1.0//EN
CALSCALE:GREGORIAN
METHOD:PUBLISH
X-ORIGINAL-URL:https://mara-amore.ie
X-WR-CALDESC:Events for Mara Amore
REFRESH-INTERVAL;VALUE=DURATION:PT1H
X-Robots-Tag:noindex
X-PUBLISHED-TTL:PT1H
BEGIN:VTIMEZONE
TZID:Europe/London
BEGIN:DAYLIGHT
TZOFFSETFROM:+0000
TZOFFSETTO:+0100
TZNAME:BST
DTSTART:20250330T010000
END:DAYLIGHT
BEGIN:STANDARD
TZOFFSETFROM:+0100
TZOFFSETTO:+0000
TZNAME:GMT
DTSTART:20251026T010000
END:STANDARD
BEGIN:DAYLIGHT
TZOFFSETFROM:+0000
TZOFFSETTO:+0100
TZNAME:BST
DTSTART:20260329T010000
END:DAYLIGHT
BEGIN:STANDARD
TZOFFSETFROM:+0100
TZOFFSETTO:+0000
TZNAME:GMT
DTSTART:20261025T010000
END:STANDARD
BEGIN:DAYLIGHT
TZOFFSETFROM:+0000
TZOFFSETTO:+0100
TZNAME:BST
DTSTART:20270328T010000
END:DAYLIGHT
BEGIN:STANDARD
TZOFFSETFROM:+0100
TZOFFSETTO:+0000
TZNAME:GMT
DTSTART:20271031T010000
END:STANDARD
END:VTIMEZONE
BEGIN:VEVENT
DTSTART;TZID=Europe/London:20260623T183000
DTEND;TZID=Europe/London:20260623T213000
DTSTAMP:20260422T232336
CREATED:20260204T114142Z
LAST-MODIFIED:20260222T195935Z
UID:365479-1782239400-1782250200@mara-amore.ie
SUMMARY:Create beautiful glass art: Fused Glass Workshop 23 June 6.30pm-9.30pm
DESCRIPTION:Create beautiful glass art: Fused Glass Workshop 23 June 6.30pm-9.30pm\n  \n2 options now available.\nCreate your own beautiful glass art in my 3 hour June fused glass workshop in the Mara Amore shop\, Tenterden High Street. I now have 2 options available for you\, as below and it’s easy to book here on the website. \n\nCreate a flat piece of art of your choice . This could be a landscape or abstract tile or a range of suncatchers. One firing process. £65 pp\n\n \n2. Create a 3D piece of art. Two firing processes and a larger amount of glass provided. This could be a candle shade\, a wave or a small bowl/tray. £80 pp \n \nI will guide you through the processes used to create glass art and you will learn to cut and shape bullseye glass safely. Choose your own design and be sure to bring a photo or two or a sketch with you\, to inspire you. No previous experience is necessary. I will take all pieces back to my home studio to fire\, for collection around 10 days later. All materials and firing time is included in your ticket price.
URL:https://mara-amore.ie/event/create-beautiful-glass-art-fused-glass-workshop-23-june-6-30pm-9-30pm/
LOCATION:Mara Amore\, 66 High Street\, Tenterden\, Kent\, TN30 6AU\, United Kingdom
CATEGORIES:Workshop
ATTACH;FMTTYPE=image/jpeg:https://mara-amore.ie/wp-content/uploads/2026/02/PXL_20260203_203725436.PORTRAIT-optimized.jpg
ORGANIZER;CN="Mara Amore":MAILTO:h@mara-amore.ie
END:VEVENT
END:VCALENDAR