BEGIN:VCALENDAR
VERSION:2.0
PRODID:-//Mara Amore - ECPv6.15.20//NONSGML v1.0//EN
CALSCALE:GREGORIAN
METHOD:PUBLISH
X-WR-CALNAME:Mara Amore
X-ORIGINAL-URL:https://mara-amore.ie
X-WR-CALDESC:Events for Mara Amore
REFRESH-INTERVAL;VALUE=DURATION:PT1H
X-Robots-Tag:noindex
X-PUBLISHED-TTL:PT1H
BEGIN:VTIMEZONE
TZID:Europe/London
BEGIN:DAYLIGHT
TZOFFSETFROM:+0000
TZOFFSETTO:+0100
TZNAME:BST
DTSTART:20240331T010000
END:DAYLIGHT
BEGIN:STANDARD
TZOFFSETFROM:+0100
TZOFFSETTO:+0000
TZNAME:GMT
DTSTART:20241027T010000
END:STANDARD
BEGIN:DAYLIGHT
TZOFFSETFROM:+0000
TZOFFSETTO:+0100
TZNAME:BST
DTSTART:20250330T010000
END:DAYLIGHT
BEGIN:STANDARD
TZOFFSETFROM:+0100
TZOFFSETTO:+0000
TZNAME:GMT
DTSTART:20251026T010000
END:STANDARD
BEGIN:DAYLIGHT
TZOFFSETFROM:+0000
TZOFFSETTO:+0100
TZNAME:BST
DTSTART:20260329T010000
END:DAYLIGHT
BEGIN:STANDARD
TZOFFSETFROM:+0100
TZOFFSETTO:+0000
TZNAME:GMT
DTSTART:20261025T010000
END:STANDARD
END:VTIMEZONE
BEGIN:VEVENT
DTSTART;TZID=Europe/London:20251007T183000
DTEND;TZID=Europe/London:20251007T213000
DTSTAMP:20260423T043753
CREATED:20250812T145405Z
LAST-MODIFIED:20250913T201146Z
UID:364345-1759861800-1759872600@mara-amore.ie
SUMMARY:Create beautiful glass art:  Fused Glass Workshop 7 October: 6.30pm - 9.30pm
DESCRIPTION:Create beautiful glass art: Fused Glass Workshop 7 October: 6.30pm – 9.30pm\n \nCreate your own beautiful glass art in my 3 hour October fused glass workshop. You are free to design anything you like under my guidance.  The pieces pictured here were all made in workshop and are the types of things you might want to make\, but you can bring your own ideas and we will work together to make it happen. \nI will guide you through the processes used to create glass art and you will learn to cut and shape bullseye glass safely. Choose your own design and be sure to bring a photo or two or a sketch with you\, to inspire you. No previous experience is necessary. I will take all pieces back to my home studio to fire\, for collection a few days later. 4 places available. £65 pp which includes all materials and firing time. \nIf you want to mount your work like the one shown\, or hang on the wall or rest in a display stand\, we will discuss how best to do that. I can mount for you if you wish and have a wooden stand made to fit the piece [additional charges apply].
URL:https://mara-amore.ie/event/fused-glass-workshop-7-october-6-30pm-9-30pm/
LOCATION:Mara Amore\, 66 High Street\, Tenterden\, Kent\, TN30 6AU\, United Kingdom
CATEGORIES:Workshop
ATTACH;FMTTYPE=image/jpeg:https://mara-amore.ie/wp-content/uploads/2025/08/sunflower-workshop-optimized.jpg
ORGANIZER;CN="Mara Amore":MAILTO:h@mara-amore.ie
END:VEVENT
BEGIN:VEVENT
DTSTART;TZID=Europe/London:20250928T100000
DTEND;TZID=Europe/London:20250928T130000
DTSTAMP:20260423T043753
CREATED:20250714T103657Z
LAST-MODIFIED:20250913T200714Z
UID:364190-1759053600-1759064400@mara-amore.ie
SUMMARY:Create beautiful glass landscape art:  Fused Glass Workshop 28 September 10am - 1pm
DESCRIPTION:Create beautiful glass landscape art: Fused Glass Workshop 28 September 10am – 1pm\n \nCreate your own beautiful glass landscape art in my 3 hour September workshop. as glass works beautifully in landscape scenes.  The one pictured here was inspired by a holiday snap from our trip to Croatia\, on a beach in the evening.  I will guide you through the processes used to create glass art and you will learn to cut and shape bullseye glass safely. Choose your own design and be sure to bring a photo or two with you\, to inspire you. No previous experience is necessary. I will take all pieces back to my home studio to fire\, for collection a few days later. 4 places available. £60 pp which includes all materials and firing time. \nIf you want to mount your work like the one shown\, or hang on the wall or rest in a display stand\, we will discuss how best to do that. I can mount for you if you wish and have a wooden stand made to fit the piece [additional charges apply].
URL:https://mara-amore.ie/event/create-beautiful-glass-landscape-art-fused-glass-workshop-28-september/
LOCATION:Mara Amore\, 66 High Street\, Tenterden\, Kent\, TN30 6AU\, United Kingdom
CATEGORIES:Workshop
ATTACH;FMTTYPE=image/jpeg:https://mara-amore.ie/wp-content/uploads/2025/07/PXL_20250714_101231995.PORTRAIT-optimized.jpg
ORGANIZER;CN="Mara Amore":MAILTO:h@mara-amore.ie
END:VEVENT
BEGIN:VEVENT
DTSTART;TZID=Europe/London:20250909T183000
DTEND;TZID=Europe/London:20250909T213000
DTSTAMP:20260423T043753
CREATED:20250714T102840Z
LAST-MODIFIED:20250714T102840Z
UID:364186-1757442600-1757453400@mara-amore.ie
SUMMARY:Create beautiful glass landscape art:  Fused Glass Workshop 9 September: 6.30pm - 9.30pm
DESCRIPTION:Create beautiful glass landscape art: Fused Glass Workshop 9 September: 6.30pm – 9.30pm\n \nCreate your own beautiful glass landscape art in my 3 hour September workshop. as glass works beautifully in landscape scenes.  The one pictured here was inspired by a holiday snap from our trip to Croatia\, on a beach in the evening.  I will guide you through the processes used to create glass art and you will learn to cut and shape bullseye glass safely. Choose your own design and be sure to bring a photo or two with you\, to inspire you. No previous experience is necessary. I will take all pieces back to my home studio to fire\, for collection a few days later. 4 places available. £60 pp which includes all materials and firing time. \nIf you want to mount your work like the one shown\, or hang on the wall or rest in a display stand\, we will discuss how best to do that. I can mount for you if you wish and have a wooden stand made to fit the piece [additional charges apply].
URL:https://mara-amore.ie/event/create-beautiful-glass-landscape-art-9-september/
LOCATION:Made by Bayliss & Co\, 17a High Street\, Tenterden\, Kent\, TN30 6BN\, United Kingdom
CATEGORIES:Workshop
ATTACH;FMTTYPE=image/jpeg:https://mara-amore.ie/wp-content/uploads/2025/07/PXL_20250714_101231995.PORTRAIT-optimized.jpg
ORGANIZER;CN="Mara Amore":MAILTO:h@mara-amore.ie
END:VEVENT
BEGIN:VEVENT
DTSTART;TZID=Europe/London:20250831T100000
DTEND;TZID=Europe/London:20250831T130000
DTSTAMP:20260423T043753
CREATED:20250708T114457Z
LAST-MODIFIED:20250712T112052Z
UID:364165-1756634400-1756645200@mara-amore.ie
SUMMARY:How to Create a Glass Wave:  Fused Glass Workshop August 31: 10.00am - 1.00pm
DESCRIPTION:How to Create a Glass Wave: Fused Glass Workshop August 31: 10.00am – 1.00pm\n \nIf you’ve wondered how to create a glass wave\, then this is the workshop for you! A 3 hour glass fusing session to guide you in the processes used to create glass art with a focus on a scene for a wave. You will learn to cut and shape bullseye glass and design your own glass art to take home. Choose your own design and no previous experience is necessary. I will take all pieces back to my home studio to slump and fire\, for collection a few days later. 4 places available. £50 pp which includes all materials.
URL:https://mara-amore.ie/event/how-to-create-a-glass-wave-fused-glass-workshop-august-31-10-1/
LOCATION:Made by Bayliss & Co\, 17a High Street\, Tenterden\, Kent\, TN30 6BN\, United Kingdom
CATEGORIES:Workshop
ATTACH;FMTTYPE=image/jpeg:https://mara-amore.ie/wp-content/uploads/2025/04/PXL_20250407_133254753.PORTRAIT-optimized.jpg
ORGANIZER;CN="Mara Amore":MAILTO:h@mara-amore.ie
END:VEVENT
BEGIN:VEVENT
DTSTART;TZID=Europe/London:20250812T183000
DTEND;TZID=Europe/London:20250812T213000
DTSTAMP:20260423T043753
CREATED:20250708T112848Z
LAST-MODIFIED:20250712T112517Z
UID:364160-1755023400-1755034200@mara-amore.ie
SUMMARY:How to Create a Glass Wave:  Fused Glass Workshop August 12: 6.30-9.30pm
DESCRIPTION:How to Create a Glass Wave: Relaxing fused Glass Workshop August 12: 6.30-9.30pm\n \nIf you’ve wondered how to create a glass wave\, then this is the workshop for you! A 3 hour glass fusing session to guide you in the processes used to create glass art with a focus on a scene for a wave. You will learn to cut and shape bullseye glass and design your own glass art to take home. Choose your own design and no previous experience is necessary. I will take all pieces back to my home studio to slump and fire\, for collection a few days later. 4 places available. £50 pp which includes all materials.
URL:https://mara-amore.ie/event/how-to-create-a-glass-wave-workshop-august-12-6-30-9-30pm/
LOCATION:Made by Bayliss & Co\, 17a High Street\, Tenterden\, Kent\, TN30 6BN\, United Kingdom
CATEGORIES:Workshop
ATTACH;FMTTYPE=image/jpeg:https://mara-amore.ie/wp-content/uploads/2025/04/PXL_20250407_133254753.PORTRAIT-optimized.jpg
ORGANIZER;CN="Mara Amore":MAILTO:h@mara-amore.ie
END:VEVENT
BEGIN:VEVENT
DTSTART;TZID=Europe/London:20250727T100000
DTEND;TZID=Europe/London:20250727T130000
DTSTAMP:20260423T043753
CREATED:20250704T110237Z
LAST-MODIFIED:20250712T113152Z
UID:364114-1753610400-1753621200@mara-amore.ie
SUMMARY:Fun & Relaxing Suncatcher Glass Workshop July 27: 10am-1pm
DESCRIPTION:Suncatcher Glass Workshop July 27: 10am-1pm\n \nThis fun and relaxing 3 hour glass fusing workshop will guide you in the processes used to create glass art with a focus on the suncatcher. You will learn to cut and shape bullseye glass and design your own glass art to take home. You can select the design style here or choose your own\, it’s entirely up to you. No previous experience necessary. I will take all pieces back to my home studio to fire\, for collection a few days later. \n4 places available. £50 pp which includes all materials. If you would like to frame a window tile as shown here\, there will be an additional charge of £4 on the day for the frame.
URL:https://mara-amore.ie/event/fun-relaxing-suncatcher-glass-workshop-july-27/
LOCATION:Made by Bayliss & Co\, 17a High Street\, Tenterden\, Kent\, TN30 6BN\, United Kingdom
CATEGORIES:Workshop
ATTACH;FMTTYPE=image/jpeg:https://mara-amore.ie/wp-content/uploads/2025/06/PXL_20250614_195034216.PORTRAIT-optimized.jpg
ORGANIZER;CN="Mara Amore":MAILTO:h@mara-amore.ie
END:VEVENT
BEGIN:VEVENT
DTSTART;TZID=Europe/London:20250715T183000
DTEND;TZID=Europe/London:20250715T213000
DTSTAMP:20260423T043753
CREATED:20250703T153043Z
LAST-MODIFIED:20250708T111844Z
UID:364104-1752604200-1752615000@mara-amore.ie
SUMMARY:Fun & Relaxing Suncatcher Glass Workshop July 15: 6.30-9.30pm
DESCRIPTION:Suncatcher Glass Workshop July 15: 6.30-9.30pm\n \nThis fun and relaxing 3 hour glass fusing workshop will guide you in the processes used to create glass art with a focus on the suncatcher. You will learn to cut and shape bullseye glass and design your own glass art to take home. You can select the design style here or choose your own\, it’s entirely up to you. No previous experience necessary. I will take all pieces back to my home studio to fire\, for collection a few days later. 4 places available. £50 pp which includes all materials. If you would like to frame a window tile as shown here\, there will be an additional charge of £4 on the day for the frame.
URL:https://mara-amore.ie/event/suncatcher-glass-workshop-july-15/
LOCATION:Made by Bayliss & Co\, 17a High Street\, Tenterden\, Kent\, TN30 6BN\, United Kingdom
CATEGORIES:Workshop
ATTACH;FMTTYPE=image/jpeg:https://mara-amore.ie/wp-content/uploads/2025/06/PXL_20250614_195034216.PORTRAIT-optimized.jpg
ORGANIZER;CN="Mara Amore":MAILTO:h@mara-amore.ie
END:VEVENT
END:VCALENDAR