BEGIN:VCALENDAR
VERSION:2.0
PRODID:-//Mara Amore - ECPv6.15.20//NONSGML v1.0//EN
CALSCALE:GREGORIAN
METHOD:PUBLISH
X-ORIGINAL-URL:https://mara-amore.ie
X-WR-CALDESC:Events for Mara Amore
REFRESH-INTERVAL;VALUE=DURATION:PT1H
X-Robots-Tag:noindex
X-PUBLISHED-TTL:PT1H
BEGIN:VTIMEZONE
TZID:Europe/London
BEGIN:DAYLIGHT
TZOFFSETFROM:+0000
TZOFFSETTO:+0100
TZNAME:BST
DTSTART:20250330T010000
END:DAYLIGHT
BEGIN:STANDARD
TZOFFSETFROM:+0100
TZOFFSETTO:+0000
TZNAME:GMT
DTSTART:20251026T010000
END:STANDARD
BEGIN:DAYLIGHT
TZOFFSETFROM:+0000
TZOFFSETTO:+0100
TZNAME:BST
DTSTART:20260329T010000
END:DAYLIGHT
BEGIN:STANDARD
TZOFFSETFROM:+0100
TZOFFSETTO:+0000
TZNAME:GMT
DTSTART:20261025T010000
END:STANDARD
BEGIN:DAYLIGHT
TZOFFSETFROM:+0000
TZOFFSETTO:+0100
TZNAME:BST
DTSTART:20270328T010000
END:DAYLIGHT
BEGIN:STANDARD
TZOFFSETFROM:+0100
TZOFFSETTO:+0000
TZNAME:GMT
DTSTART:20271031T010000
END:STANDARD
END:VTIMEZONE
BEGIN:VEVENT
DTSTART;TZID=Europe/London:20260107T143000
DTEND;TZID=Europe/London:20260128T163000
DTSTAMP:20260422T232553
CREATED:20251030T205409Z
LAST-MODIFIED:20251030T205409Z
UID:365031-1767796200-1769617800@mara-amore.ie
SUMMARY:January Crafternoon Glass Art Course: 7th\, 14th\, 21st\, 28th January 2.30pm-4.30pm
DESCRIPTION:January Crafternoon Glass Art Course\n  \nA 4 week glass art course for those who have already had an introduction to glass fusing and who wish to develop their skills on a larger piece. Create a piece of glass art up to 29cm tall by 21cm wide and work on it over the 4 weeks. Two firings and all materials included. \nEvery Wednesday in January\, 2.30pm – 4.30pm.
URL:https://mara-amore.ie/event/january-crafternoon-glass-art-course/
LOCATION:Mara Amore\, 66 High Street\, Tenterden\, Kent\, TN30 6AU\, United Kingdom
CATEGORIES:Workshop
ATTACH;FMTTYPE=image/jpeg:https://mara-amore.ie/wp-content/uploads/2025/09/PXL_20250914_100743515.MP_-optimized.jpg
ORGANIZER;CN="Mara Amore":MAILTO:h@mara-amore.ie
END:VEVENT
BEGIN:VEVENT
DTSTART;TZID=Europe/London:20260125T100000
DTEND;TZID=Europe/London:20260125T130000
DTSTAMP:20260422T232554
CREATED:20250930T194854Z
LAST-MODIFIED:20251009T154200Z
UID:364703-1769335200-1769346000@mara-amore.ie
SUMMARY:NEW YEAR NEW ART! Create beautiful glass art:  Fused Glass Workshop 25 January: 10am-1pm
DESCRIPTION:NEW YEAR NEW ART! \nCreate beautiful glass art: Fused Glass Workshop 25 January: 10am-1pm\n  \n2 options now available.\nCreate your own beautiful glass art in my 3 hour January fused glass workshop in the Mara Amore shop\, Tenterden High Street. I now have 2 options available for you\, as below and it’s easy to book here on the website. \n\nCreate a flat piece of art of your choice . This could be a landscape or abstract tile or a range of suncatchers. One firing process. £65 pp\n\n  \n2. Create a 3D piece of art. Two firing processes and a larger amount of glass provided. This could be a candle shade\, a wave or a small bowl/tray. £80 pp \n  \nI will guide you through the processes used to create glass art and you will learn to cut and shape bullseye glass safely. Choose your own design and be sure to bring a photo or two or a sketch with you\, to inspire you. No previous experience is necessary. I will take all pieces back to my home studio to fire\, for collection around 10 days later. All materials and firing time is included in your ticket price.
URL:https://mara-amore.ie/event/new-year-new-art-create-beautiful-glass-art-fused-glass-workshop-25-january-10am-1pm/
LOCATION:Mara Amore\, 66 High Street\, Tenterden\, Kent\, TN30 6AU\, United Kingdom
CATEGORIES:Workshop
ATTACH;FMTTYPE=image/jpeg:https://mara-amore.ie/wp-content/uploads/2025/09/PXL_20250914_100743515.MP_-optimized.jpg
ORGANIZER;CN="Mara Amore":MAILTO:h@mara-amore.ie
END:VEVENT
BEGIN:VEVENT
DTSTART;TZID=Europe/London:20260125T143000
DTEND;TZID=Europe/London:20260125T170000
DTSTAMP:20260422T232554
CREATED:20251219T093558Z
LAST-MODIFIED:20251219T093558Z
UID:365228-1769351400-1769360400@mara-amore.ie
SUMMARY:NEW YEAR NEW ART! Create beautiful glass art: Fused Glass Workshop 25 January: 2.30pm – 5.30pm
DESCRIPTION:NEW YEAR NEW ART! \nCreate beautiful glass art: Fused Glass Workshop 25 January: 10am-1pm\n  \n2 options now available.\nCreate your own beautiful glass art in my 3 hour January fused glass workshop in the Mara Amore shop\, Tenterden High Street. I now have 2 options available for you\, as below and it’s easy to book here on the website. \n\nCreate a flat piece of art of your choice . This could be a landscape or abstract tile or a range of suncatchers. One firing process. £65 pp\n\n  \n2. Create a 3D piece of art. Two firing processes and a larger amount of glass provided. This could be a candle shade\, a wave or a small bowl/tray. £80 pp \n  \nI will guide you through the processes used to create glass art and you will learn to cut and shape bullseye glass safely. Choose your own design and be sure to bring a photo or two or a sketch with you\, to inspire you. No previous experience is necessary. I will take all pieces back to my home studio to fire\, for collection around 10 days later. All materials and firing time is included in your ticket price.
URL:https://mara-amore.ie/event/new-year-new-art-create-beautiful-glass-art-fused-glass-workshop-25-january-2-30pm-5-30pm/
LOCATION:Mara Amore\, 66 High Street\, Tenterden\, Kent\, TN30 6AU\, United Kingdom
CATEGORIES:Workshop
ATTACH;FMTTYPE=image/jpeg:https://mara-amore.ie/wp-content/uploads/2025/09/PXL_20250914_100743515.MP_-optimized.jpg
ORGANIZER;CN="Mara Amore":MAILTO:h@mara-amore.ie
END:VEVENT
END:VCALENDAR